BEGIN:VCALENDAR
VERSION:2.0
PRODID:-//Friends of Boerner Botanical Gardens - ECPv6.15.20//NONSGML v1.0//EN
CALSCALE:GREGORIAN
METHOD:PUBLISH
X-WR-CALNAME:Friends of Boerner Botanical Gardens
X-ORIGINAL-URL:https://boernerbotanicalgardens.org
X-WR-CALDESC:Events for Friends of Boerner Botanical Gardens
REFRESH-INTERVAL;VALUE=DURATION:PT1H
X-Robots-Tag:noindex
X-PUBLISHED-TTL:PT1H
BEGIN:VTIMEZONE
TZID:America/Chicago
BEGIN:DAYLIGHT
TZOFFSETFROM:-0600
TZOFFSETTO:-0500
TZNAME:CDT
DTSTART:20250309T080000
END:DAYLIGHT
BEGIN:STANDARD
TZOFFSETFROM:-0500
TZOFFSETTO:-0600
TZNAME:CST
DTSTART:20251102T070000
END:STANDARD
BEGIN:DAYLIGHT
TZOFFSETFROM:-0600
TZOFFSETTO:-0500
TZNAME:CDT
DTSTART:20260308T080000
END:DAYLIGHT
BEGIN:STANDARD
TZOFFSETFROM:-0500
TZOFFSETTO:-0600
TZNAME:CST
DTSTART:20261101T070000
END:STANDARD
BEGIN:DAYLIGHT
TZOFFSETFROM:-0600
TZOFFSETTO:-0500
TZNAME:CDT
DTSTART:20270314T080000
END:DAYLIGHT
BEGIN:STANDARD
TZOFFSETFROM:-0500
TZOFFSETTO:-0600
TZNAME:CST
DTSTART:20271107T070000
END:STANDARD
END:VTIMEZONE
BEGIN:VEVENT
DTSTART;TZID=America/Chicago:20260420T133000
DTEND;TZID=America/Chicago:20260420T153000
DTSTAMP:20260420T060627
CREATED:20251203T192154Z
LAST-MODIFIED:20260408T145056Z
UID:10001113-1776691800-1776699000@boernerbotanicalgardens.org
SUMMARY:Forest Bathing
DESCRIPTION:Forest Bathing\nWith Anne David\, certified nature & forest therapy guide \nTHIS CLASS IS CURRENTLY FULL.  PLEASE CALL 414-525-5653 TO BE PUT ON A WAITLIST. \nMonday\, April 20 – 1:30-3:30pm \nJoin us for an introduction to Forest Bathing where you fully immerse yourself in the outdoors\, engaging all of your senses. This practice is known to enhance health and well-being. Please bring a yoga mat if you are able; there is a limited supply to loan. \nCost: $15/FBBG members and $20/non-members \n\nClass for adults 18 and up.
URL:https://boernerbotanicalgardens.org/event/forest-bathing/
LOCATION:Boerner Botanical Gardens\, 9400 Boerner Drive\, Hales Corners\, WI\, 53130\, United States
CATEGORIES:Adult / Family Education,Classes
ORGANIZER;CN="Friends of Boerner Botanical Gardens":MAILTO:info@fbbg.org
GEO:42.9372392;-88.0312057
X-APPLE-STRUCTURED-LOCATION;VALUE=URI;X-ADDRESS=Boerner Botanical Gardens 9400 Boerner Drive Hales Corners WI 53130 United States;X-APPLE-RADIUS=500;X-TITLE=9400 Boerner Drive:geo:-88.0312057,42.9372392
END:VEVENT
END:VCALENDAR